BEGIN:VCALENDAR
VERSION:2.0
PRODID:-//bsa-fas.ch Events Calendar//www.bsa-fas.ch//
BEGIN:VEVENT
SUMMARY:Affspace - Der Turm am Rand von Ostermundigen
DTSTART:20170907T180000
DTEND:20170907T200000
DTSTAMP:20170907T200000Z
UID:84.event.events.ch.bsa-fas.www
END:VEVENT
END:VCALENDAR
