BEGIN:VCALENDAR
VERSION:2.0
PRODID:-//bsa-fas.ch Events Calendar//www.bsa-fas.ch//
BEGIN:VEVENT
SUMMARY:sia - 5à7\, Regionalgruppe Biel-Seeland\, Besichtigung Hochhaus F
 alkenstrasse Biel
DTSTART:20171026T170000
DTEND:20171026T190000
DTSTAMP:20171026T190000Z
UID:77.event.events.ch.bsa-fas.www
END:VEVENT
END:VCALENDAR
