BEGIN:VCALENDAR
VERSION:2.0
PRODID:-//bsa-fas.ch Events Calendar//www.bsa-fas.ch//
BEGIN:VEVENT
SUMMARY:sia - 5à7\, Regionalgruppe Bern\, Besichtigung heilpädagogische 
 Tagesschule Biel
DTSTART:20170921T170000
DTEND:20170921T190000
DTSTAMP:20170921T190000Z
UID:74.event.events.ch.bsa-fas.www
END:VEVENT
END:VCALENDAR
