BEGIN:VCALENDAR
VERSION:2.0
PRODID:-//bsa-fas.ch Events Calendar//www.bsa-fas.ch//
BEGIN:VEVENT
SUMMARY:BSA Bern Mitgliederversammlung
DTSTART:20170913T122542
DTEND:20170913T122542
DTSTAMP:20170913T122542Z
UID:7.event.events.ch.bsa-fas.www
END:VEVENT
END:VCALENDAR
