BEGIN:VCALENDAR
VERSION:2.0
PRODID:-//bsa-fas.ch Events Calendar//www.bsa-fas.ch//
BEGIN:VEVENT
SUMMARY:April-Salon
DTSTART:20250401T213642
DTEND:20250430T213642
DTSTAMP:20250430T213642Z
UID:643.event.events.ch.bsa-fas.www
END:VEVENT
END:VCALENDAR
