BEGIN:VCALENDAR
VERSION:2.0
PRODID:-//bsa-fas.ch Events Calendar//www.bsa-fas.ch//
BEGIN:VEVENT
SUMMARY:Giornata di rete Archijeunes 2025
DTSTART:20251121T090000
DTEND:20251121T170000
DTSTAMP:20251121T170000Z
UID:632.event.events.ch.bsa-fas.www
LOCATION:Bern
END:VEVENT
END:VCALENDAR
