BEGIN:VCALENDAR
VERSION:2.0
PRODID:-//bsa-fas.ch Events Calendar//www.bsa-fas.ch//
BEGIN:VEVENT
SUMMARY:holz formen - Ausstellung BSA-Forschungsstipendium
DTSTART:20240305T190000
DTEND:20240305T203000
DTSTAMP:20240305T203000Z
UID:595.event.events.ch.bsa-fas.www
LOCATION:ETH Hönggerberg\, Foyer HIL E3
END:VEVENT
END:VCALENDAR
