BEGIN:VCALENDAR
VERSION:2.0
PRODID:-//bsa-fas.ch Events Calendar//www.bsa-fas.ch//
BEGIN:VEVENT
SUMMARY:117a Assemblea generale FAS 24/25 maggio 2024 Basilea
DTSTART:20240524T100000
DTEND:20240525T140000
DTSTAMP:20240525T140000Z
UID:594.event.events.ch.bsa-fas.www
END:VEVENT
END:VCALENDAR
