BEGIN:VCALENDAR
VERSION:2.0
PRODID:-//bsa-fas.ch Events Calendar//www.bsa-fas.ch//
BEGIN:VEVENT
SUMMARY:Stadtgespräch: Erweiterung Osttangente\, Tunnel unter Basel?
DTSTART:20230510T190000
DTEND:20230510T220000
DTSTAMP:20230510T220000Z
UID:564.event.events.ch.bsa-fas.www
LOCATION:UBS Kundenhalle\, Aeschenvorstadt 1\, 4051 Basel
END:VEVENT
END:VCALENDAR
