BEGIN:VCALENDAR
VERSION:2.0
PRODID:-//bsa-fas.ch Events Calendar//www.bsa-fas.ch//
BEGIN:VEVENT
SUMMARY:BSA Mittagstisch 04 (Gesprächsrunde)
DTSTART:20220310T120000
DTEND:20220310T143000
DTSTAMP:20220310T143000Z
UID:536.event.events.ch.bsa-fas.www
LOCATION:Bahnhofstrasse 30\, Luzern
END:VEVENT
END:VCALENDAR
