BEGIN:VCALENDAR
VERSION:2.0
PRODID:-//bsa-fas.ch Events Calendar//www.bsa-fas.ch//
BEGIN:VEVENT
SUMMARY:Podiumsgespräch: Zukunft Bahnhof Basel SBB
DTSTART:20211026T180000
DTEND:20211026T210000
DTSTAMP:20211026T210000Z
UID:528.event.events.ch.bsa-fas.www
LOCATION:Ehemalige Brasserie\, Westflügel Bahnhof Basel SBB Centralbahnst
 rasse 10\, 4051 Basel
END:VEVENT
END:VCALENDAR
