BEGIN:VCALENDAR
VERSION:2.0
PRODID:-//bsa-fas.ch Events Calendar//www.bsa-fas.ch//
BEGIN:VEVENT
SUMMARY:Architekturforum Bern – Carte blanche camponovo baumgartner arch
 itekten
DTSTART:20200310T190000
DTEND:20200310T210000
DTSTAMP:20200310T210000Z
UID:430.event.events.ch.bsa-fas.www
LOCATION:Stadtsaal Kornhausforum Bern
END:VEVENT
END:VCALENDAR
