BEGIN:VCALENDAR
VERSION:2.0
PRODID:-//bsa-fas.ch Events Calendar//www.bsa-fas.ch//
BEGIN:VEVENT
SUMMARY:Prix FAS
DTSTART:20191005T150000
DTEND:20191005T170000
DTSTAMP:20191005T170000Z
UID:412.event.events.ch.bsa-fas.www
LOCATION:SwissTech Convention Center
END:VEVENT
END:VCALENDAR
