BEGIN:VCALENDAR
VERSION:2.0
PRODID:-//bsa-fas.ch Events Calendar//www.bsa-fas.ch//
BEGIN:VEVENT
SUMMARY:Begehung Alterspflegeheim Humanitas von Bachelard Wagner Architekt
 en
DTSTART:20170826T130000
DTEND:20170826T180000
DTSTAMP:20170826T180000Z
UID:41.event.events.ch.bsa-fas.www
END:VEVENT
END:VCALENDAR
