BEGIN:VCALENDAR
VERSION:2.0
PRODID:-//bsa-fas.ch Events Calendar//www.bsa-fas.ch//
BEGIN:VEVENT
SUMMARY:Architekturforum Bern – Whatever Happened to Analogue Architectu
 re\, Vortrag Prof. Adam Caruso
DTSTART:20191105T190000
DTEND:20191105T210000
DTSTAMP:20191105T210000Z
UID:400.event.events.ch.bsa-fas.www
LOCATION:Kornhausforum Bern\, Stadtsaal
END:VEVENT
END:VCALENDAR
