BEGIN:VCALENDAR
VERSION:2.0
PRODID:-//bsa-fas.ch Events Calendar//www.bsa-fas.ch//
BEGIN:VEVENT
SUMMARY:Stiftung Heidi + Peter Wenger – architekturausflug crans-montana
DTSTART:20190525T100000
DTEND:20190525T170000
DTSTAMP:20190525T170000Z
UID:394.event.events.ch.bsa-fas.www
LOCATION:crans-montana
END:VEVENT
END:VCALENDAR
