BEGIN:VCALENDAR
VERSION:2.0
PRODID:-//bsa-fas.ch Events Calendar//www.bsa-fas.ch//
BEGIN:VEVENT
SUMMARY:sia Sektion Bern – 5 à 7: besichtigung neubau sitem-insel ag\, 
 bern
DTSTART:20190522T170000
DTEND:20190522T190000
DTSTAMP:20190522T190000Z
UID:376.event.events.ch.bsa-fas.www
LOCATION:Haupteingang sitem-insel AG\,  Freiburgstrasse 3\, 3010 Bern
END:VEVENT
END:VCALENDAR
