BEGIN:VCALENDAR
VERSION:2.0
PRODID:-//bsa-fas.ch Events Calendar//www.bsa-fas.ch//
BEGIN:VEVENT
SUMMARY:sia Sektion Solothurn – ARCHITEKTUR DER UNENDLICHKEIT\, ein neue
 r Film von Christoph Schaub
DTSTART:20190324T180000
DTEND:20190324T200000
DTSTAMP:20190324T200000Z
UID:367.event.events.ch.bsa-fas.www
LOCATION:Kino Uferbau\, Ritterquai 10\, Solothurn
END:VEVENT
END:VCALENDAR
