BEGIN:VCALENDAR
VERSION:2.0
PRODID:-//bsa-fas.ch Events Calendar//www.bsa-fas.ch//
BEGIN:VEVENT
SUMMARY:Neue Theater Bauten Schweiz
DTSTART:20190314T180000
DTEND:20190314T000000
DTSTAMP:20190314T000000Z
UID:355.event.events.ch.bsa-fas.www
LOCATION:Theater BOX Stadt Luzern
END:VEVENT
END:VCALENDAR
