BEGIN:VCALENDAR
VERSION:2.0
PRODID:-//bsa-fas.ch Events Calendar//www.bsa-fas.ch//
BEGIN:VEVENT
SUMMARY:HEIA-FR – CONFÉRENCE DE LA FILIÈRE D'ARCHITECTURE - LAURENT DE
  WURSTEMBERGER
DTSTART:20190603T173000
DTEND:20190603T190000
DTSTAMP:20190603T190000Z
UID:354.event.events.ch.bsa-fas.www
LOCATION:Auditoire E. Gremaud
END:VEVENT
END:VCALENDAR
