BEGIN:VCALENDAR
VERSION:2.0
PRODID:-//bsa-fas.ch Events Calendar//www.bsa-fas.ch//
BEGIN:VEVENT
SUMMARY:HEIA-FR – CONFÉRENCE DE LA FILIÈRE D'ARCHITECTURE - GAYMENZEL
DTSTART:20190218T173000
DTEND:20190218T190000
DTSTAMP:20190218T190000Z
UID:351.event.events.ch.bsa-fas.www
LOCATION:Auditoire E. Gremaud
END:VEVENT
END:VCALENDAR
