BEGIN:VCALENDAR
VERSION:2.0
PRODID:-//bsa-fas.ch Events Calendar//www.bsa-fas.ch//
BEGIN:VEVENT
SUMMARY:Zu Besuch bei… Kantonsarchitekt Basel-Land Marco Frigerio
DTSTART:20170928T170000
DTEND:20170928T190000
DTSTAMP:20170928T190000Z
UID:34.event.events.ch.bsa-fas.www
END:VEVENT
END:VCALENDAR
