BEGIN:VCALENDAR
VERSION:2.0
PRODID:-//bsa-fas.ch Events Calendar//www.bsa-fas.ch//
BEGIN:VEVENT
SUMMARY:Gründungsversammlung AA-B am Dienstag\, 19. Februar 2019
DTSTART:20190219T171500
DTEND:20190219T191500
DTSTAMP:20190219T191500Z
UID:339.event.events.ch.bsa-fas.www
LOCATION:Zentralbibliothek Bern\, Münstergasse 63\, Bern  (Eingang stadta
 ufwärts)
END:VEVENT
END:VCALENDAR
