BEGIN:VCALENDAR
VERSION:2.0
PRODID:-//bsa-fas.ch Events Calendar//www.bsa-fas.ch//
BEGIN:VEVENT
SUMMARY:Mitgliederversammlung März
DTSTART:20190321T171000
DTEND:20190321T220000
DTSTAMP:20190321T220000Z
UID:320.event.events.ch.bsa-fas.www
END:VEVENT
END:VCALENDAR
