BEGIN:VCALENDAR
VERSION:2.0
PRODID:-//bsa-fas.ch Events Calendar//www.bsa-fas.ch//
BEGIN:VEVENT
SUMMARY:Monatsveranstaltung November
DTSTART:20181129T173000
DTEND:20181129T210000
DTSTAMP:20181129T210000Z
UID:302.event.events.ch.bsa-fas.www
LOCATION:Ackerstrasse 30\, 8005 Zürich\, Schweiz
END:VEVENT
END:VCALENDAR
