BEGIN:VCALENDAR
VERSION:2.0
PRODID:-//bsa-fas.ch Events Calendar//www.bsa-fas.ch//
BEGIN:VEVENT
SUMMARY:Architekturforum Thun – Lesezirkel Diskussion über Architektur\
 , Kunst\, Handwerk
DTSTART:20191109T111000
DTEND:20191109T130000
DTSTAMP:20191109T130000Z
UID:299.event.events.ch.bsa-fas.www
LOCATION:Atelierhaus Thun
END:VEVENT
END:VCALENDAR
