BEGIN:VCALENDAR
VERSION:2.0
PRODID:-//bsa-fas.ch Events Calendar//www.bsa-fas.ch//
BEGIN:VEVENT
SUMMARY:Architekturforum Thun – Huber Waser Mühlebach / Nimbus Junge Ar
 chitekten
DTSTART:20190206T183000
DTEND:20190206T200000
DTSTAMP:20190206T200000Z
UID:287.event.events.ch.bsa-fas.www
LOCATION:Halle 6 Thun
END:VEVENT
END:VCALENDAR
