BEGIN:VCALENDAR
VERSION:2.0
PRODID:-//bsa-fas.ch Events Calendar//www.bsa-fas.ch//
BEGIN:VEVENT
SUMMARY:Architekturvorträge | Vortrag 3: Elia Malevez\, Luzern
DTSTART:20190411T183000
DTEND:20190411T000000
DTSTAMP:20190411T000000Z
UID:281.event.events.ch.bsa-fas.www
LOCATION:Jazzkantine\, Grabenstrasse 8\, 6004 Luzern
END:VEVENT
END:VCALENDAR
