BEGIN:VCALENDAR
VERSION:2.0
PRODID:-//bsa-fas.ch Events Calendar//www.bsa-fas.ch//
BEGIN:VEVENT
SUMMARY:Architekturvorträge | Vortrag 1: ahaa\, Luzern
DTSTART:20181108T183000
DTEND:20181108T000000
DTSTAMP:20181108T000000Z
UID:279.event.events.ch.bsa-fas.www
LOCATION:Jazzkantine\, Grabenstrasse 8\, 6004 Luzern
END:VEVENT
END:VCALENDAR
