BEGIN:VCALENDAR
VERSION:2.0
PRODID:-//bsa-fas.ch Events Calendar//www.bsa-fas.ch//
BEGIN:VEVENT
SUMMARY:Podiumsgespräch der IG Baukultur
DTSTART:20180920T181500
DTEND:20180920T000000
DTSTAMP:20180920T000000Z
UID:272.event.events.ch.bsa-fas.www
LOCATION:Roten Haus\, Areal ewl\, Industriestrasse 6 in Luzern
END:VEVENT
END:VCALENDAR
