BEGIN:VCALENDAR
VERSION:2.0
PRODID:-//bsa-fas.ch Events Calendar//www.bsa-fas.ch//
BEGIN:VEVENT
SUMMARY:Architekturforum Bern – Architektur\, abseits
DTSTART:20181030T190000
DTEND:20181030T210000
DTSTAMP:20181030T210000Z
UID:264.event.events.ch.bsa-fas.www
LOCATION:Kornhausforum Bern
END:VEVENT
END:VCALENDAR
