BEGIN:VCALENDAR
VERSION:2.0
PRODID:-//bsa-fas.ch Events Calendar//www.bsa-fas.ch//
BEGIN:VEVENT
SUMMARY:Ausstellung der Bachelorarbeiten
DTSTART:20180831T163000
DTEND:20180831T210000
DTSTAMP:20180831T210000Z
UID:243.event.events.ch.bsa-fas.www
LOCATION:Hochschule für Technik und Architektur Freiburg
END:VEVENT
END:VCALENDAR
