BEGIN:VCALENDAR
VERSION:2.0
PRODID:-//bsa-fas.ch Events Calendar//www.bsa-fas.ch//
BEGIN:VEVENT
SUMMARY:Kulturerbejahr 2018 - Breitenbach
DTSTART:20180915T140000
DTEND:20180915T160000
DTSTAMP:20180915T160000Z
UID:231.event.events.ch.bsa-fas.www
LOCATION:Breitenbach
END:VEVENT
END:VCALENDAR
