BEGIN:VCALENDAR
VERSION:2.0
PRODID:-//bsa-fas.ch Events Calendar//www.bsa-fas.ch//
BEGIN:VEVENT
SUMMARY:Abenteurerin und Fotograf. Reisen und Leben von Katharina von Arx 
 und Freddy Drilhon
DTSTART:20180215T190000
DTEND:20180215T203000
DTSTAMP:20180215T203000Z
UID:204.event.events.ch.bsa-fas.www
END:VEVENT
END:VCALENDAR
