BEGIN:VCALENDAR
VERSION:2.0
PRODID:-//bsa-fas.ch Events Calendar//www.bsa-fas.ch//
BEGIN:VEVENT
SUMMARY:Freiburger Architekturforum – José Maria Sanchez Garcia
DTSTART:20180417T183000
DTEND:20180417T200000
DTSTAMP:20180417T200000Z
UID:201.event.events.ch.bsa-fas.www
LOCATION:Nouveau Monde\, Esplanade de l'Ancienne-Gare 3\, 1701 Fribourg
END:VEVENT
END:VCALENDAR
