BEGIN:VCALENDAR
VERSION:2.0
PRODID:-//bsa-fas.ch Events Calendar//www.bsa-fas.ch//
BEGIN:VEVENT
SUMMARY:Freiburger Architekturforum - Bast\, Nouveau Monde\, Freiburg
DTSTART:20180220T183000
DTEND:20180220T200000
DTSTAMP:20180220T200000Z
UID:198.event.events.ch.bsa-fas.www
END:VEVENT
END:VCALENDAR
