BEGIN:VCALENDAR
VERSION:2.0
PRODID:-//bsa-fas.ch Events Calendar//www.bsa-fas.ch//
BEGIN:VEVENT
SUMMARY:Mitgliederversammlung August
DTSTART:20180831T083000
DTEND:20180901T184500
DTSTAMP:20180901T184500Z
UID:193.event.events.ch.bsa-fas.www
END:VEVENT
END:VCALENDAR
