BEGIN:VCALENDAR
VERSION:2.0
PRODID:-//bsa-fas.ch Events Calendar//www.bsa-fas.ch//
BEGIN:VEVENT
SUMMARY:Ausstellung Architekturpreis Beton 2017
DTSTART:20180109T102612
DTEND:20180125T102612
DTSTAMP:20180125T102612Z
UID:154.event.events.ch.bsa-fas.www
END:VEVENT
END:VCALENDAR
