BEGIN:VCALENDAR
VERSION:2.0
PRODID:-//bsa-fas.ch Events Calendar//www.bsa-fas.ch//
BEGIN:VEVENT
SUMMARY:Architekturforum Bern - „Architektur und Antroposophie“ Local 
 Architecture & Jean-Jacques Tschumi\, Lausanne + Lancy
DTSTART:20180605T190000
DTEND:20180605T210000
DTSTAMP:20180605T210000Z
UID:151.event.events.ch.bsa-fas.www
END:VEVENT
END:VCALENDAR
