BEGIN:VCALENDAR
VERSION:2.0
PRODID:-//bsa-fas.ch Events Calendar//www.bsa-fas.ch//
BEGIN:VEVENT
SUMMARY:Architekturforum Thun - 10 Jahre Architektur Forum Thun
DTSTART:20181017T183000
DTEND:20181017T200000
DTSTAMP:20181017T200000Z
UID:139.event.events.ch.bsa-fas.www
END:VEVENT
END:VCALENDAR
