BEGIN:VCALENDAR
VERSION:2.0
PRODID:-//bsa-fas.ch Events Calendar//www.bsa-fas.ch//
BEGIN:VEVENT
SUMMARY:Biwak#20 Constructive Alps 2017 - Fünf Trommelwirbel für das kü
 nftige Bauen und Sanieren in den Alpen
DTSTART:20171204T120000
DTEND:20171204T140000
DTSTAMP:20171204T140000Z
UID:113.event.events.ch.bsa-fas.www
END:VEVENT
END:VCALENDAR
