BEGIN:VCALENDAR
VERSION:2.0
PRODID:-//bsa-fas.ch Events Calendar//www.bsa-fas.ch//
BEGIN:VEVENT
SUMMARY:Gebäudetyp E. Einfach besser bauen
DTSTART:20260311T180000
DTEND:20260311T220000
DTSTAMP:20260311T220000Z
UID:653.event.events.ch.bsa-fas.www
LOCATION:Halle 7 | Gundeldingerfeld\, Dornacherstrasse 192\, 4053 Basel
END:VEVENT
END:VCALENDAR
