BEGIN:VCALENDAR
VERSION:2.0
PRODID:-//bsa-fas.ch Events Calendar//www.bsa-fas.ch//
BEGIN:VEVENT
SUMMARY:BSA-ZAGG-Reise\, auf den Spuren des Wiederaufbaus in der Normandie
 : Rouen\, Lisieux\, Caen\, Le Havre
DTSTART:20260909T080000
DTEND:20260913T180000
DTSTAMP:20260913T180000Z
UID:649.event.events.ch.bsa-fas.www
END:VEVENT
END:VCALENDAR
