BEGIN:VCALENDAR
VERSION:2.0
PRODID:-//bsa-fas.ch Events Calendar//www.bsa-fas.ch//
BEGIN:VEVENT
SUMMARY:Vernissage Case Study Steel House
DTSTART:20170915T190000
DTEND:20170915T210000
DTSTAMP:20170915T210000Z
UID:93.event.events.ch.bsa-fas.www
END:VEVENT
END:VCALENDAR
