BEGIN:VCALENDAR
VERSION:2.0
PRODID:-//bsa-fas.ch Events Calendar//www.bsa-fas.ch//
BEGIN:VEVENT
SUMMARY:ABAP - Nachbarschaften
DTSTART:20171205T190000
DTEND:20171205T210000
DTSTAMP:20171205T210000Z
UID:88.event.events.ch.bsa-fas.www
END:VEVENT
END:VCALENDAR
