BEGIN:VCALENDAR
VERSION:2.0
PRODID:-//bsa-fas.ch Events Calendar//www.bsa-fas.ch//
BEGIN:VEVENT
SUMMARY:ABAP - Partizipation www.abap.ch der Bewohnerinnen und Mieter
DTSTART:20171121T190000
DTEND:20171121T210000
DTSTAMP:20171121T210000Z
UID:86.event.events.ch.bsa-fas.www
END:VEVENT
END:VCALENDAR
