BEGIN:VCALENDAR
VERSION:2.0
PRODID:-//bsa-fas.ch Events Calendar//www.bsa-fas.ch//
BEGIN:VEVENT
SUMMARY:ABAP - Die Teilzeit-Falle
DTSTART:20170920T190000
DTEND:20170920T210000
DTSTAMP:20170920T210000Z
UID:85.event.events.ch.bsa-fas.www
END:VEVENT
END:VCALENDAR
