BEGIN:VCALENDAR
VERSION:2.0
PRODID:-//bsa-fas.ch Events Calendar//www.bsa-fas.ch//
BEGIN:VEVENT
SUMMARY:BSA-Reise: Weisser Barock in Süddeutschland
DTSTART:20250911T080000
DTEND:20250914T200000
DTSTAMP:20250914T200000Z
UID:611.event.events.ch.bsa-fas.www
END:VEVENT
END:VCALENDAR
