BEGIN:VCALENDAR
VERSION:2.0
PRODID:-//bsa-fas.ch Events Calendar//www.bsa-fas.ch//
BEGIN:VEVENT
SUMMARY:Dialogveranstaltung Roadmap Nachhaltigkeit für eine zukunftsfähi
 ge Baubranche
DTSTART:20240909T170000
DTEND:20240909T183000
DTSTAMP:20240909T183000Z
UID:602.event.events.ch.bsa-fas.www
LOCATION:RESERVOIR Parkhaus Leimgrube\, Dachgeschoss\, Leimgrubenweg 13 40
 53 Basel
END:VEVENT
END:VCALENDAR
