BEGIN:VCALENDAR
VERSION:2.0
PRODID:-//bsa-fas.ch Events Calendar//www.bsa-fas.ch//
BEGIN:VEVENT
SUMMARY:Journée FAS 2024
DTSTART:20240426T100000
DTEND:20240426T163000
DTSTAMP:20240426T163000Z
UID:596.event.events.ch.bsa-fas.www
LOCATION:Hotel Schweizerhof\, Schweizerhofquai 3\, 6002 Luzern
END:VEVENT
END:VCALENDAR
